BEGIN:VCALENDAR
VERSION:2.0
PRODID:-//Play Portland Texas - ECPv6.15.20//NONSGML v1.0//EN
CALSCALE:GREGORIAN
METHOD:PUBLISH
X-WR-CALNAME:Play Portland Texas
X-ORIGINAL-URL:https://playportlandtx.com
X-WR-CALDESC:Events for Play Portland Texas
REFRESH-INTERVAL;VALUE=DURATION:PT1H
X-Robots-Tag:noindex
X-PUBLISHED-TTL:PT1H
BEGIN:VTIMEZONE
TZID:America/New_York
BEGIN:DAYLIGHT
TZOFFSETFROM:-0500
TZOFFSETTO:-0400
TZNAME:EDT
DTSTART:20250309T070000
END:DAYLIGHT
BEGIN:STANDARD
TZOFFSETFROM:-0400
TZOFFSETTO:-0500
TZNAME:EST
DTSTART:20251102T060000
END:STANDARD
BEGIN:DAYLIGHT
TZOFFSETFROM:-0500
TZOFFSETTO:-0400
TZNAME:EDT
DTSTART:20260308T070000
END:DAYLIGHT
BEGIN:STANDARD
TZOFFSETFROM:-0400
TZOFFSETTO:-0500
TZNAME:EST
DTSTART:20261101T060000
END:STANDARD
BEGIN:DAYLIGHT
TZOFFSETFROM:-0500
TZOFFSETTO:-0400
TZNAME:EDT
DTSTART:20270314T070000
END:DAYLIGHT
BEGIN:STANDARD
TZOFFSETFROM:-0400
TZOFFSETTO:-0500
TZNAME:EST
DTSTART:20271107T060000
END:STANDARD
END:VTIMEZONE
BEGIN:VEVENT
DTSTART;VALUE=DATE:20260418
DTEND;VALUE=DATE:20260420
DTSTAMP:20260419T190709
CREATED:20260305T115752Z
LAST-MODIFIED:20260324T153708Z
UID:10000009-1776470400-1776643199@playportlandtx.com
SUMMARY:STX BC Sports Association
DESCRIPTION:
URL:https://playportlandtx.com/event-detail/stx-bc-sports-association/
ATTACH;FMTTYPE=image/png:https://playportlandtx.com/wp-content/uploads/2026/03/1.png
END:VEVENT
BEGIN:VEVENT
DTSTART;VALUE=DATE:20260425
DTEND;VALUE=DATE:20260427
DTSTAMP:20260419T190709
CREATED:20260305T115841Z
LAST-MODIFIED:20260324T154121Z
UID:10000010-1777075200-1777247999@playportlandtx.com
SUMMARY:LB21 Tournaments
DESCRIPTION:
URL:https://playportlandtx.com/event-detail/lb21-tournaments-2/
ATTACH;FMTTYPE=image/png:https://playportlandtx.com/wp-content/uploads/2026/03/7.png
END:VEVENT
BEGIN:VEVENT
DTSTART;VALUE=DATE:20260502
DTEND;VALUE=DATE:20260504
DTSTAMP:20260419T190709
CREATED:20260305T115956Z
LAST-MODIFIED:20260324T154510Z
UID:10000011-1777680000-1777852799@playportlandtx.com
SUMMARY:Texas Elite Tournaments
DESCRIPTION:Cinco de Mayo
URL:https://playportlandtx.com/event-detail/texas-elite-tournaments-3/
ATTACH;FMTTYPE=image/png:https://playportlandtx.com/wp-content/uploads/2026/03/6.png
END:VEVENT
BEGIN:VEVENT
DTSTART;VALUE=DATE:20260509
DTEND;VALUE=DATE:20260511
DTSTAMP:20260419T190709
CREATED:20260305T120228Z
LAST-MODIFIED:20260305T120228Z
UID:10000012-1778284800-1778457599@playportlandtx.com
SUMMARY:Suncoast Sports
DESCRIPTION:Mother’s Day
URL:https://playportlandtx.com/event-detail/suncoast-sports-2/
ATTACH;FMTTYPE=image/jpeg:https://playportlandtx.com/wp-content/uploads/2026/03/Suncoast_tMhb1DIB7Ga2TTzVE2u7Ih2d625nEWJN-1.jpg
END:VEVENT
BEGIN:VEVENT
DTSTART;VALUE=DATE:20260516
DTEND;VALUE=DATE:20260518
DTSTAMP:20260419T190709
CREATED:20260305T120307Z
LAST-MODIFIED:20260324T154253Z
UID:10000013-1778889600-1779062399@playportlandtx.com
SUMMARY:STX BC Sports Association
DESCRIPTION:
URL:https://playportlandtx.com/event-detail/stx-bc-sports-association-2/
ATTACH;FMTTYPE=image/png:https://playportlandtx.com/wp-content/uploads/2026/03/1.png
END:VEVENT
BEGIN:VEVENT
DTSTART;VALUE=DATE:20260523
DTEND;VALUE=DATE:20260526
DTSTAMP:20260419T190709
CREATED:20260305T120346Z
LAST-MODIFIED:20260324T154623Z
UID:10000014-1779494400-1779753599@playportlandtx.com
SUMMARY:LB21 Tournaments
DESCRIPTION:
URL:https://playportlandtx.com/event-detail/lb21-tournaments-3/
ATTACH;FMTTYPE=image/png:https://playportlandtx.com/wp-content/uploads/2026/03/7.png
END:VEVENT
BEGIN:VEVENT
DTSTART;VALUE=DATE:20260530
DTEND;VALUE=DATE:20260601
DTSTAMP:20260419T190709
CREATED:20260305T120607Z
LAST-MODIFIED:20260324T154810Z
UID:10000015-1780099200-1780271999@playportlandtx.com
SUMMARY:Cen-Tex Elite Baseball
DESCRIPTION:
URL:https://playportlandtx.com/event-detail/cen-tex-elite-baseball/
ATTACH;FMTTYPE=image/png:https://playportlandtx.com/wp-content/uploads/2026/03/5.png
END:VEVENT
BEGIN:VEVENT
DTSTART;VALUE=DATE:20260606
DTEND;VALUE=DATE:20260611
DTSTAMP:20260419T190709
CREATED:20260305T120701Z
LAST-MODIFIED:20260324T154845Z
UID:10000016-1780704000-1781135999@playportlandtx.com
SUMMARY:Texas Elite Tournaments
DESCRIPTION:
URL:https://playportlandtx.com/event-detail/texas-elite-tournaments-4/
ATTACH;FMTTYPE=image/png:https://playportlandtx.com/wp-content/uploads/2026/03/6.png
END:VEVENT
BEGIN:VEVENT
DTSTART;VALUE=DATE:20260613
DTEND;VALUE=DATE:20260615
DTSTAMP:20260419T190709
CREATED:20260305T120801Z
LAST-MODIFIED:20260324T155021Z
UID:10000017-1781308800-1781481599@playportlandtx.com
SUMMARY:GPYBA Summer 2026
DESCRIPTION:SPGSA Summer 2026
URL:https://playportlandtx.com/event-detail/gpyba-summer-2026/
ATTACH;FMTTYPE=image/png:https://playportlandtx.com/wp-content/uploads/2026/03/4.png
END:VEVENT
BEGIN:VEVENT
DTSTART;VALUE=DATE:20260616
DTEND;VALUE=DATE:20260622
DTSTAMP:20260419T190709
CREATED:20260305T120936Z
LAST-MODIFIED:20260324T155521Z
UID:10000018-1781568000-1782086399@playportlandtx.com
SUMMARY:FASA Southwest Nationals
DESCRIPTION:Father’s Day
URL:https://playportlandtx.com/event-detail/fasa-southwest-nationals/
ATTACH;FMTTYPE=image/png:https://playportlandtx.com/wp-content/uploads/2026/03/2.png
END:VEVENT
BEGIN:VEVENT
DTSTART;VALUE=DATE:20260627
DTEND;VALUE=DATE:20260629
DTSTAMP:20260419T190709
CREATED:20260305T121052Z
LAST-MODIFIED:20260324T155554Z
UID:10000019-1782518400-1782691199@playportlandtx.com
SUMMARY:STX BC Sports Association
DESCRIPTION:
URL:https://playportlandtx.com/event-detail/stx-bc-sports-association-3/
ATTACH;FMTTYPE=image/png:https://playportlandtx.com/wp-content/uploads/2026/03/1.png
END:VEVENT
BEGIN:VEVENT
DTSTART;VALUE=DATE:20260711
DTEND;VALUE=DATE:20260713
DTSTAMP:20260419T190709
CREATED:20260305T121131Z
LAST-MODIFIED:20260324T155631Z
UID:10000020-1783728000-1783900799@playportlandtx.com
SUMMARY:GPYBA Spring 2026
DESCRIPTION:
URL:https://playportlandtx.com/event-detail/gpyba-spring-2026/
ATTACH;FMTTYPE=image/png:https://playportlandtx.com/wp-content/uploads/2026/03/4.png
END:VEVENT
BEGIN:VEVENT
DTSTART;VALUE=DATE:20260715
DTEND;VALUE=DATE:20260720
DTSTAMP:20260419T190709
CREATED:20260305T121208Z
LAST-MODIFIED:20260324T155802Z
UID:10000021-1784073600-1784505599@playportlandtx.com
SUMMARY:Texas Elite Tournaments
DESCRIPTION:
URL:https://playportlandtx.com/event-detail/texas-elite-tournaments-5/
ATTACH;FMTTYPE=image/png:https://playportlandtx.com/wp-content/uploads/2026/03/6.png
END:VEVENT
BEGIN:VEVENT
DTSTART;VALUE=DATE:20260723
DTEND;VALUE=DATE:20260727
DTSTAMP:20260419T190709
CREATED:20260305T121537Z
LAST-MODIFIED:20260324T160818Z
UID:10000022-1784764800-1785110399@playportlandtx.com
SUMMARY:SCS Kenneth Wilson
DESCRIPTION:
URL:https://playportlandtx.com/event-detail/scs-kenneth-wilson/
ATTACH;FMTTYPE=image/png:https://playportlandtx.com/wp-content/uploads/2026/03/Untitled-design-12-1.png
END:VEVENT
BEGIN:VEVENT
DTSTART;VALUE=DATE:20260801
DTEND;VALUE=DATE:20260803
DTSTAMP:20260419T190709
CREATED:20260305T121609Z
LAST-MODIFIED:20260324T152720Z
UID:10000023-1785542400-1785715199@playportlandtx.com
SUMMARY:GPYBA Fall 2026
DESCRIPTION:
URL:https://playportlandtx.com/event-detail/gpyba-fall-2026/
ATTACH;FMTTYPE=image/png:https://playportlandtx.com/wp-content/uploads/2026/03/4.png
END:VEVENT
BEGIN:VEVENT
DTSTART;VALUE=DATE:20260808
DTEND;VALUE=DATE:20260810
DTSTAMP:20260419T190709
CREATED:20260305T122134Z
LAST-MODIFIED:20260324T152612Z
UID:10000024-1786147200-1786319999@playportlandtx.com
SUMMARY:Texas Elite Tournaments
DESCRIPTION:
URL:https://playportlandtx.com/event-detail/texas-elite-tournaments-6/
ATTACH;FMTTYPE=image/png:https://playportlandtx.com/wp-content/uploads/2026/03/6.png
END:VEVENT
BEGIN:VEVENT
DTSTART;VALUE=DATE:20260815
DTEND;VALUE=DATE:20260817
DTSTAMP:20260419T190709
CREATED:20260305T122208Z
LAST-MODIFIED:20260324T152749Z
UID:10000025-1786752000-1786924799@playportlandtx.com
SUMMARY:STX BC Sports Association
DESCRIPTION:
URL:https://playportlandtx.com/event-detail/stx-bc-sports-association-4/
ATTACH;FMTTYPE=image/png:https://playportlandtx.com/wp-content/uploads/2026/03/1.png
END:VEVENT
BEGIN:VEVENT
DTSTART;VALUE=DATE:20260829
DTEND;VALUE=DATE:20260831
DTSTAMP:20260419T190709
CREATED:20260305T122244Z
LAST-MODIFIED:20260324T152830Z
UID:10000026-1787961600-1788134399@playportlandtx.com
SUMMARY:LB21 Tournaments
DESCRIPTION:
URL:https://playportlandtx.com/event-detail/lb21-tournaments-4/
ATTACH;FMTTYPE=image/png:https://playportlandtx.com/wp-content/uploads/2026/03/7.png
END:VEVENT
BEGIN:VEVENT
DTSTART;VALUE=DATE:20260905
DTEND;VALUE=DATE:20260907
DTSTAMP:20260419T190709
CREATED:20260305T122312Z
LAST-MODIFIED:20260324T152850Z
UID:10000027-1788566400-1788739199@playportlandtx.com
SUMMARY:Texas Elite Tournaments
DESCRIPTION:
URL:https://playportlandtx.com/event-detail/texas-elite-tournaments-7/
ATTACH;FMTTYPE=image/png:https://playportlandtx.com/wp-content/uploads/2026/03/6.png
END:VEVENT
BEGIN:VEVENT
DTSTART;VALUE=DATE:20260912
DTEND;VALUE=DATE:20260914
DTSTAMP:20260419T190709
CREATED:20260305T122346Z
LAST-MODIFIED:20260324T153029Z
UID:10000028-1789171200-1789343999@playportlandtx.com
SUMMARY:STX BC Sports Association
DESCRIPTION:
URL:https://playportlandtx.com/event-detail/stx-bc-sports-association-5/
ATTACH;FMTTYPE=image/png:https://playportlandtx.com/wp-content/uploads/2026/03/1.png
END:VEVENT
BEGIN:VEVENT
DTSTART;VALUE=DATE:20260919
DTEND;VALUE=DATE:20260921
DTSTAMP:20260419T190709
CREATED:20260305T122413Z
LAST-MODIFIED:20260324T152943Z
UID:10000029-1789776000-1789948799@playportlandtx.com
SUMMARY:Texas Elite Tournaments
DESCRIPTION:
URL:https://playportlandtx.com/event-detail/texas-elite-tournaments-8/
ATTACH;FMTTYPE=image/png:https://playportlandtx.com/wp-content/uploads/2026/03/6.png
END:VEVENT
BEGIN:VEVENT
DTSTART;VALUE=DATE:20260926
DTEND;VALUE=DATE:20260928
DTSTAMP:20260419T190709
CREATED:20260305T122438Z
LAST-MODIFIED:20260324T153110Z
UID:10000030-1790380800-1790553599@playportlandtx.com
SUMMARY:LB21 Tournaments
DESCRIPTION:
URL:https://playportlandtx.com/event-detail/lb21-tournaments-5/
ATTACH;FMTTYPE=image/png:https://playportlandtx.com/wp-content/uploads/2026/03/7.png
END:VEVENT
BEGIN:VEVENT
DTSTART;VALUE=DATE:20261003
DTEND;VALUE=DATE:20261005
DTSTAMP:20260419T190709
CREATED:20260305T122541Z
LAST-MODIFIED:20260324T152159Z
UID:10000031-1790985600-1791158399@playportlandtx.com
SUMMARY:PTX COED Softball Tournament
DESCRIPTION:
URL:https://playportlandtx.com/event-detail/ptx-coed-softball-tournament/
ATTACH;FMTTYPE=image/png:https://playportlandtx.com/wp-content/uploads/2026/03/2.png
END:VEVENT
BEGIN:VEVENT
DTSTART;VALUE=DATE:20261010
DTEND;VALUE=DATE:20261012
DTSTAMP:20260419T190709
CREATED:20260305T122611Z
LAST-MODIFIED:20260324T153201Z
UID:10000032-1791590400-1791763199@playportlandtx.com
SUMMARY:STX BC Sports Association
DESCRIPTION:
URL:https://playportlandtx.com/event-detail/stx-bc-sports-association-6/
ATTACH;FMTTYPE=image/png:https://playportlandtx.com/wp-content/uploads/2026/03/1.png
END:VEVENT
BEGIN:VEVENT
DTSTART;VALUE=DATE:20261017
DTEND;VALUE=DATE:20261019
DTSTAMP:20260419T190709
CREATED:20260305T122652Z
LAST-MODIFIED:20260324T160009Z
UID:10000033-1792195200-1792367999@playportlandtx.com
SUMMARY:LB21 Tournaments
DESCRIPTION:
URL:https://playportlandtx.com/event-detail/lb21-tournaments-6/
ATTACH;FMTTYPE=image/png:https://playportlandtx.com/wp-content/uploads/2026/03/7.png
END:VEVENT
BEGIN:VEVENT
DTSTART;VALUE=DATE:20261024
DTEND;VALUE=DATE:20261026
DTSTAMP:20260419T190709
CREATED:20260305T122918Z
LAST-MODIFIED:20260324T160516Z
UID:10000034-1792800000-1792972799@playportlandtx.com
SUMMARY:Texas Elite Tournaments
DESCRIPTION:
URL:https://playportlandtx.com/event-detail/texas-elite-tournaments-9/
ATTACH;FMTTYPE=image/png:https://playportlandtx.com/wp-content/uploads/2026/03/6.png
END:VEVENT
BEGIN:VEVENT
DTSTART;VALUE=DATE:20261031
DTEND;VALUE=DATE:20261102
DTSTAMP:20260419T190709
CREATED:20260305T122957Z
LAST-MODIFIED:20260324T152125Z
UID:10000035-1793404800-1793577599@playportlandtx.com
SUMMARY:Cen-Tex Elite Baseball
DESCRIPTION:
URL:https://playportlandtx.com/event-detail/cen-tex-elite-baseball-2/
ATTACH;FMTTYPE=image/png:https://playportlandtx.com/wp-content/uploads/2026/03/5.png
END:VEVENT
BEGIN:VEVENT
DTSTART;VALUE=DATE:20261107
DTEND;VALUE=DATE:20261109
DTSTAMP:20260419T190709
CREATED:20260305T123029Z
LAST-MODIFIED:20260324T152056Z
UID:10000036-1794009600-1794182399@playportlandtx.com
SUMMARY:Texas Elite Tournaments
DESCRIPTION:
URL:https://playportlandtx.com/event-detail/texas-elite-tournaments-10/
ATTACH;FMTTYPE=image/png:https://playportlandtx.com/wp-content/uploads/2026/03/6.png
END:VEVENT
BEGIN:VEVENT
DTSTART;VALUE=DATE:20261114
DTEND;VALUE=DATE:20261116
DTSTAMP:20260419T190709
CREATED:20260305T123057Z
LAST-MODIFIED:20260324T151948Z
UID:10000037-1794614400-1794787199@playportlandtx.com
SUMMARY:LB21 Tournaments
DESCRIPTION:
URL:https://playportlandtx.com/event-detail/lb21-tournaments-7/
ATTACH;FMTTYPE=image/png:https://playportlandtx.com/wp-content/uploads/2026/03/7.png
END:VEVENT
BEGIN:VEVENT
DTSTART;VALUE=DATE:20261121
DTEND;VALUE=DATE:20261123
DTSTAMP:20260419T190709
CREATED:20260305T123130Z
LAST-MODIFIED:20260324T151925Z
UID:10000038-1795219200-1795391999@playportlandtx.com
SUMMARY:STX BC Sports Association
DESCRIPTION:
URL:https://playportlandtx.com/event-detail/stx-bc-sports-association-7/
ATTACH;FMTTYPE=image/png:https://playportlandtx.com/wp-content/uploads/2026/03/1.png
END:VEVENT
END:VCALENDAR