BEGIN:VCALENDAR
VERSION:2.0
PRODID:-//Play Portland Texas - ECPv6.15.20//NONSGML v1.0//EN
CALSCALE:GREGORIAN
METHOD:PUBLISH
X-WR-CALNAME:Play Portland Texas
X-ORIGINAL-URL:https://playportlandtx.com
X-WR-CALDESC:Events for Play Portland Texas
REFRESH-INTERVAL;VALUE=DURATION:PT1H
X-Robots-Tag:noindex
X-PUBLISHED-TTL:PT1H
BEGIN:VTIMEZONE
TZID:America/New_York
BEGIN:DAYLIGHT
TZOFFSETFROM:-0500
TZOFFSETTO:-0400
TZNAME:EDT
DTSTART:20250309T070000
END:DAYLIGHT
BEGIN:STANDARD
TZOFFSETFROM:-0400
TZOFFSETTO:-0500
TZNAME:EST
DTSTART:20251102T060000
END:STANDARD
BEGIN:DAYLIGHT
TZOFFSETFROM:-0500
TZOFFSETTO:-0400
TZNAME:EDT
DTSTART:20260308T070000
END:DAYLIGHT
BEGIN:STANDARD
TZOFFSETFROM:-0400
TZOFFSETTO:-0500
TZNAME:EST
DTSTART:20261101T060000
END:STANDARD
BEGIN:DAYLIGHT
TZOFFSETFROM:-0500
TZOFFSETTO:-0400
TZNAME:EDT
DTSTART:20270314T070000
END:DAYLIGHT
BEGIN:STANDARD
TZOFFSETFROM:-0400
TZOFFSETTO:-0500
TZNAME:EST
DTSTART:20271107T060000
END:STANDARD
END:VTIMEZONE
BEGIN:VEVENT
DTSTART;VALUE=DATE:20260411
DTEND;VALUE=DATE:20260413
DTSTAMP:20260419T202940
CREATED:20260305T115434Z
LAST-MODIFIED:20260324T153603Z
UID:10000008-1775865600-1776038399@playportlandtx.com
SUMMARY:Texas Elite Tournaments
DESCRIPTION:
URL:https://playportlandtx.com/event-detail/texas-elite-tournaments-2/
ATTACH;FMTTYPE=image/png:https://playportlandtx.com/wp-content/uploads/2026/03/6.png
END:VEVENT
BEGIN:VEVENT
DTSTART;VALUE=DATE:20260328
DTEND;VALUE=DATE:20260330
DTSTAMP:20260419T202940
CREATED:20260305T112649Z
LAST-MODIFIED:20260324T153522Z
UID:10000007-1774656000-1774828799@playportlandtx.com
SUMMARY:Texas Elite Tournaments
DESCRIPTION:
URL:https://playportlandtx.com/event-detail/texas-elite-tournaments/
ATTACH;FMTTYPE=image/png:https://playportlandtx.com/wp-content/uploads/2026/03/6.png
END:VEVENT
BEGIN:VEVENT
DTSTART;VALUE=DATE:20260321
DTEND;VALUE=DATE:20260323
DTSTAMP:20260419T202940
CREATED:20260305T112603Z
LAST-MODIFIED:20260305T112603Z
UID:10000006-1774051200-1774223999@playportlandtx.com
SUMMARY:Suncoast Sports
DESCRIPTION:SPGSA Spring 2026 (OC)
URL:https://playportlandtx.com/event-detail/suncoast-sports/
ATTACH;FMTTYPE=image/jpeg:https://playportlandtx.com/wp-content/uploads/2026/03/Suncoast_tMhb1DIB7Ga2TTzVE2u7Ih2d625nEWJN-1.jpg
END:VEVENT
BEGIN:VEVENT
DTSTART;VALUE=DATE:20260314
DTEND;VALUE=DATE:20260316
DTSTAMP:20260419T202940
CREATED:20260305T111420Z
LAST-MODIFIED:20260305T112327Z
UID:10000005-1773446400-1773619199@playportlandtx.com
SUMMARY:LB21 Tournaments
DESCRIPTION:
URL:https://playportlandtx.com/event-detail/lb21-tournaments/
ATTACH;FMTTYPE=image/jpeg:https://playportlandtx.com/wp-content/uploads/2026/03/lb-21.jpg
END:VEVENT
BEGIN:VEVENT
DTSTART;VALUE=DATE:20260216
DTEND;VALUE=DATE:20260219
DTSTAMP:20260419T202940
CREATED:20260306T103803Z
LAST-MODIFIED:20260306T103803Z
UID:10000004-1771200000-1771459199@playportlandtx.com
SUMMARY:Holmen Park & Rec Volleyball League
DESCRIPTION:Donec sit amet lacus lacus. Suspendisse eu quam quis ipsum hendrerit porta. In sed est dapibus\, fermentum lorem nec\, pellentesque dolor. Vivamus in arcu at orci ultricies ultricies. Fusce tincidunt turpis sit amet nibh tempus varius non elementum mi. Nunc feugiat aliquet sodales. Curabitur non ex lectus. Praesent eu nisl non lacus auctor placerat. Fusce aliquet laoreet felis. \nPhasellus nec vulputate dolor. Pellentesque tincidunt elit quis tortor dictum tincidunt. Cras cursus condimentum nulla id tincidunt. Fusce dapibus velit sollicitudin arcu imperdiet mollis. Sed tempor nisl massa\, ut tincidunt turpis sodales ut. Duis tincidunt vulputate erat tempus facilisis. Proin dolor odio\, viverra id ipsum eget\, luctus sollicitudin sapien. Fusce ultricies egestas ante\, eget consequat leo hendrerit at. Vivamus placerat arcu nec turpis cursus placerat.
URL:https://playportlandtx.com/event-detail/holmen-park-rec-volleyball-league-4/
ATTACH;FMTTYPE=image/png:https://playportlandtx.com/wp-content/uploads/2025/08/event-image-5.png
END:VEVENT
END:VCALENDAR